Package: Summix Version: 2.15.0 Command: /home/biocbuild/bbs-3.22-bioc/R/bin/R CMD build --keep-empty-dirs --no-resave-data --md5 Summix StartedAt: 2025-10-03 20:21:10 -0400 (Fri, 03 Oct 2025) EndedAt: 2025-10-03 20:21:24 -0400 (Fri, 03 Oct 2025) EllapsedTime: 14.0 seconds RetCode: 0 Status: OK PackageFile: Summix_2.15.0.tar.gz PackageFileSize: 1.255 MiB