Package: Summix Version: 2.17.0 Command: /home/biocbuild/bbs-3.23-bioc/R/bin/R CMD INSTALL Summix StartedAt: 2025-11-25 15:09:05 -0500 (Tue, 25 Nov 2025) EndedAt: 2025-11-25 15:09:16 -0500 (Tue, 25 Nov 2025) EllapsedTime: 11.4 seconds RetCode: 0 Status: OK