Package: Summix Version: 2.17.0 Command: /home/biocbuild/bbs-3.23-bioc/R/bin/R CMD build --keep-empty-dirs --no-resave-data Summix StartedAt: 2025-11-25 20:24:10 -0500 (Tue, 25 Nov 2025) EndedAt: 2025-11-25 20:24:24 -0500 (Tue, 25 Nov 2025) EllapsedTime: 14.0 seconds RetCode: 0 Status: OK PackageFile: Summix_2.17.0.tar.gz PackageFileSize: 1.254 MiB