Package: SummarizedExperiment Version: 1.39.1 Command: rm -rf SummarizedExperiment.buildbin-libdir && mkdir SummarizedExperiment.buildbin-libdir && F:\biocbuild\bbs-3.22-bioc\R\bin\R.exe CMD INSTALL --build --library=SummarizedExperiment.buildbin-libdir SummarizedExperiment_1.39.1.tar.gz StartedAt: 2025-08-15 11:26:40 -0400 (Fri, 15 Aug 2025) EndedAt: 2025-08-15 11:31:06 -0400 (Fri, 15 Aug 2025) EllapsedTime: 266.0 seconds RetCode: 0 Status: OK PackageFile: SummarizedExperiment_1.39.1.zip PackageFileSize: 1.907 MiB