Package: SubCellBarCode Version: 1.25.0 Command: /home/biocbuild/bbs-3.22-bioc/R/bin/R CMD INSTALL SubCellBarCode StartedAt: 2025-07-18 15:23:41 -0400 (Fri, 18 Jul 2025) EndedAt: 2025-07-18 15:24:03 -0400 (Fri, 18 Jul 2025) EllapsedTime: 21.9 seconds RetCode: 0 Status: OK