Package: Structstrings Version: 1.25.0 Command: /home/biocbuild/bbs-3.22-bioc/R/bin/R CMD INSTALL Structstrings StartedAt: 2025-07-25 17:29:39 -0400 (Fri, 25 Jul 2025) EndedAt: 2025-07-25 17:29:55 -0400 (Fri, 25 Jul 2025) EllapsedTime: 16.6 seconds RetCode: 0 Status: OK