Package: Structstrings Version: 1.25.0 Command: /home/biocbuild/bbs-3.22-bioc/R/bin/R CMD build --keep-empty-dirs --no-resave-data --md5 Structstrings StartedAt: 2025-07-25 21:40:20 -0400 (Fri, 25 Jul 2025) EndedAt: 2025-07-25 21:40:48 -0400 (Fri, 25 Jul 2025) EllapsedTime: 27.0 seconds RetCode: 0 Status: OK PackageFile: Structstrings_1.25.0.tar.gz PackageFileSize: 368.4 KiB