Package: Statial Version: 1.11.6 Command: /home/biocbuild/bbs-3.22-bioc/R/bin/R CMD build --keep-empty-dirs --no-resave-data --md5 Statial StartedAt: 2025-10-10 20:31:26 -0400 (Fri, 10 Oct 2025) EndedAt: 2025-10-10 20:43:04 -0400 (Fri, 10 Oct 2025) EllapsedTime: 698.0 seconds RetCode: 0 Status: OK PackageFile: Statial_1.11.6.tar.gz PackageFileSize: 9.229 MiB