Package: SplineDV Version: 1.1.1 Command: chmod a+r SplineDV -R && F:\biocbuild\bbs-3.22-bioc\R\bin\R.exe CMD build --keep-empty-dirs --no-resave-data SplineDV StartedAt: 2025-08-14 23:31:19 -0400 (Thu, 14 Aug 2025) EndedAt: 2025-08-14 23:35:12 -0400 (Thu, 14 Aug 2025) EllapsedTime: 232.5 seconds RetCode: 0 Status: OK PackageFile: SplineDV_1.1.1.tar.gz PackageFileSize: 2.377 MiB