Package: SplineDV Version: 0.99.12 Command: /home/biocbuild/R/R/bin/R CMD build --keep-empty-dirs --no-resave-data SplineDV StartedAt: 2025-01-28 02:41:29 -0000 (Tue, 28 Jan 2025) EndedAt: 2025-01-28 02:45:44 -0000 (Tue, 28 Jan 2025) EllapsedTime: 255.1 seconds RetCode: 0 Status: OK PackageFile: SplineDV_0.99.12.tar.gz PackageFileSize: 2.962 MiB