Package: SplicingGraphs Version: 1.49.0 Command: /home/biocbuild/bbs-3.22-bioc/R/bin/R CMD INSTALL SplicingGraphs StartedAt: 2025-07-24 15:44:21 -0400 (Thu, 24 Jul 2025) EndedAt: 2025-07-24 15:45:06 -0400 (Thu, 24 Jul 2025) EllapsedTime: 44.4 seconds RetCode: 0 Status: OK