Package: SplicingFactory Version: 1.17.0 Command: /home/biocbuild/R/R/bin/R CMD INSTALL SplicingFactory StartedAt: 2025-10-09 21:15:35 -0000 (Thu, 09 Oct 2025) EndedAt: 2025-10-09 21:16:02 -0000 (Thu, 09 Oct 2025) EllapsedTime: 26.7 seconds RetCode: 0 Status: OK