Package: SpliceWiz Version: 1.9.0 Command: E:\biocbuild\bbs-3.21-bioc\R\bin\R.exe CMD INSTALL SpliceWiz StartedAt: 2025-02-03 16:46:19 -0500 (Mon, 03 Feb 2025) EndedAt: 2025-02-03 16:47:37 -0500 (Mon, 03 Feb 2025) EllapsedTime: 77.9 seconds RetCode: 1 Status: ERROR