Package: SpliceWiz Version: 1.9.0 Command: chmod a+r SpliceWiz -R && E:\biocbuild\bbs-3.21-bioc\R\bin\R.exe CMD build --keep-empty-dirs --no-resave-data SpliceWiz StartedAt: 2025-02-03 22:04:02 -0500 (Mon, 03 Feb 2025) EndedAt: 2025-02-03 22:05:59 -0500 (Mon, 03 Feb 2025) EllapsedTime: 117.4 seconds RetCode: 1 Status: ERROR PackageFile: None PackageFileSize: NA