Package: SpliceWiz Version: 1.9.0 Command: rm -rf SpliceWiz.buildbin-libdir && mkdir SpliceWiz.buildbin-libdir && /Users/biocbuild/BBS/utils/build-universal.sh SpliceWiz_1.9.0.tar.gz /Library/Frameworks/R.framework/Resources/bin/R SpliceWiz.buildbin-libdir StartedAt: 2025-01-22 01:16:49 -0500 (Wed, 22 Jan 2025) EndedAt: 2025-01-22 01:19:23 -0500 (Wed, 22 Jan 2025) EllapsedTime: 154.0 seconds RetCode: 0 Status: OK PackageFile: SpliceWiz_1.9.0.tgz PackageFileSize: 5.842 MiB