Package: SpliceWiz Version: 1.9.0 Command: /home/biocbuild/R/R/bin/R CMD check --install=check:SpliceWiz.install-out.txt --library=/home/biocbuild/R/R/site-library --no-vignettes --timings SpliceWiz_1.9.0.tar.gz StartedAt: 2025-01-22 11:39:52 -0000 (Wed, 22 Jan 2025) EndedAt: 2025-01-22 11:57:27 -0000 (Wed, 22 Jan 2025) EllapsedTime: 1054.4 seconds RetCode: 0 Status: WARNINGS CheckDir: SpliceWiz.Rcheck Warnings: 5