Package: SpliceWiz Version: 1.9.0 Command: /Library/Frameworks/R.framework/Resources/bin/R CMD build --keep-empty-dirs --no-resave-data SpliceWiz StartedAt: 2025-02-03 18:18:50 -0500 (Mon, 03 Feb 2025) EndedAt: 2025-02-03 18:19:10 -0500 (Mon, 03 Feb 2025) EllapsedTime: 20.2 seconds RetCode: 1 Status: ERROR PackageFile: None PackageFileSize: NA