Package: SpectriPy Version: 0.99.13 Command: /home/biocbuild/R/R/bin/R CMD INSTALL SpectriPy StartedAt: 2025-10-23 20:33:59 -0000 (Thu, 23 Oct 2025) EndedAt: 2025-10-23 20:34:49 -0000 (Thu, 23 Oct 2025) EllapsedTime: 49.5 seconds RetCode: 0 Status: OK