Package: SpectriPy Version: 0.99.13 Command: /home/biocbuild/R/R/bin/R CMD build --keep-empty-dirs --no-resave-data SpectriPy StartedAt: 2025-10-21 03:23:58 -0000 (Tue, 21 Oct 2025) EndedAt: 2025-10-21 03:34:04 -0000 (Tue, 21 Oct 2025) EllapsedTime: 606.2 seconds RetCode: 0 Status: OK PackageFile: SpectriPy_0.99.13.tar.gz PackageFileSize: 883.8 KiB