Package: SpectriPy Version: 0.99.12 Command: /Library/Frameworks/R.framework/Resources/bin/R CMD INSTALL SpectriPy StartedAt: 2025-09-30 15:16:04 -0400 (Tue, 30 Sep 2025) EndedAt: 2025-09-30 15:16:54 -0400 (Tue, 30 Sep 2025) EllapsedTime: 50.0 seconds RetCode: 0 Status: OK