Package: SpectriPy Version: 0.99.12 Maintainer: Johannes Rainer MaintainerEmail: Johannes.Rainer at eurac.edu git_url: https://git.bioconductor.org/packages/SpectriPy git_branch: devel git_last_commit: 580f9c6 git_last_commit_date: 2025-09-09 02:53:25 -0400 (Tue, 09 Sep 2025)