Package: SpectralTAD Version: 1.23.0 Command: E:\biocbuild\bbs-3.21-bioc\R\bin\R.exe CMD INSTALL SpectralTAD StartedAt: 2025-02-03 16:26:32 -0500 (Mon, 03 Feb 2025) EndedAt: 2025-02-03 16:26:52 -0500 (Mon, 03 Feb 2025) EllapsedTime: 19.8 seconds RetCode: 0 Status: OK