Package: SpectralTAD Version: 1.23.0 Command: rm -rf SpectralTAD.buildbin-libdir && mkdir SpectralTAD.buildbin-libdir && E:\biocbuild\bbs-3.21-bioc\R\bin\R.exe CMD INSTALL --build --library=SpectralTAD.buildbin-libdir SpectralTAD_1.23.0.tar.gz StartedAt: 2025-02-04 09:00:21 -0500 (Tue, 04 Feb 2025) EndedAt: 2025-02-04 09:00:40 -0500 (Tue, 04 Feb 2025) EllapsedTime: 19.8 seconds RetCode: 0 Status: OK PackageFile: SpectralTAD_1.23.0.zip PackageFileSize: 1.48 MiB