Package: SpectralTAD Version: 1.25.0 Command: /Library/Frameworks/R.framework/Resources/bin/R CMD INSTALL SpectralTAD StartedAt: 2025-04-30 15:28:01 -0400 (Wed, 30 Apr 2025) EndedAt: 2025-04-30 15:28:17 -0400 (Wed, 30 Apr 2025) EllapsedTime: 16.6 seconds RetCode: 0 Status: OK