Package: SpectralTAD Version: 1.23.0 Command: /Library/Frameworks/R.framework/Resources/bin/R CMD check --install=check:SpectralTAD.install-out.txt --library=/Library/Frameworks/R.framework/Resources/library --no-vignettes --timings SpectralTAD_1.23.0.tar.gz StartedAt: 2025-02-03 22:08:03 -0500 (Mon, 03 Feb 2025) EndedAt: 2025-02-03 22:08:50 -0500 (Mon, 03 Feb 2025) EllapsedTime: 46.5 seconds RetCode: 0 Status: OK CheckDir: SpectralTAD.Rcheck Warnings: 0