Package: SpectralTAD Version: 1.23.0 Command: /Library/Frameworks/R.framework/Resources/bin/R CMD build --keep-empty-dirs --no-resave-data SpectralTAD StartedAt: 2025-02-03 18:18:31 -0500 (Mon, 03 Feb 2025) EndedAt: 2025-02-03 18:19:08 -0500 (Mon, 03 Feb 2025) EllapsedTime: 37.4 seconds RetCode: 0 Status: OK PackageFile: SpectralTAD_1.23.0.tar.gz PackageFileSize: 1.492 MiB