Package: SpectraQL Version: 1.3.1 Command: rm -rf SpectraQL.buildbin-libdir && mkdir SpectraQL.buildbin-libdir && F:\biocbuild\bbs-3.22-bioc\R\bin\R.exe CMD INSTALL --build --library=SpectraQL.buildbin-libdir SpectraQL_1.3.1.tar.gz StartedAt: 2025-08-15 11:24:04 -0400 (Fri, 15 Aug 2025) EndedAt: 2025-08-15 11:24:24 -0400 (Fri, 15 Aug 2025) EllapsedTime: 20.0 seconds RetCode: 0 Status: OK PackageFile: SpectraQL_1.3.1.zip PackageFileSize: 380.1 KiB