Package: Spectra Version: 1.19.4 Command: rm -rf Spectra.buildbin-libdir && mkdir Spectra.buildbin-libdir && F:\biocbuild\bbs-3.22-bioc\R\bin\R.exe CMD INSTALL --build --library=Spectra.buildbin-libdir Spectra_1.19.4.tar.gz StartedAt: 2025-08-15 11:24:00 -0400 (Fri, 15 Aug 2025) EndedAt: 2025-08-15 11:25:35 -0400 (Fri, 15 Aug 2025) EllapsedTime: 95.0 seconds RetCode: 0 Status: OK PackageFile: Spectra_1.19.4.zip PackageFileSize: 2.006 MiB