Package: SpeCond Version: 1.63.0 Command: chmod a+r SpeCond -R && F:\biocbuild\bbs-3.22-bioc\R\bin\R.exe CMD build --keep-empty-dirs --no-resave-data SpeCond StartedAt: 2025-08-14 23:29:10 -0400 (Thu, 14 Aug 2025) EndedAt: 2025-08-14 23:30:23 -0400 (Thu, 14 Aug 2025) EllapsedTime: 73.8 seconds RetCode: 0 Status: OK PackageFile: SpeCond_1.63.0.tar.gz PackageFileSize: 1.7 MiB