Package: SpeCond Version: 1.63.0 Command: rm -rf SpeCond.buildbin-libdir && mkdir SpeCond.buildbin-libdir && F:\biocbuild\bbs-3.22-bioc\R\bin\R.exe CMD INSTALL --build --library=SpeCond.buildbin-libdir SpeCond_1.63.0.tar.gz StartedAt: 2025-08-15 11:23:50 -0400 (Fri, 15 Aug 2025) EndedAt: 2025-08-15 11:24:12 -0400 (Fri, 15 Aug 2025) EllapsedTime: 22.2 seconds RetCode: 0 Status: OK PackageFile: SpeCond_1.63.0.zip PackageFileSize: 1.198 MiB