Package: SpeCond Version: 1.61.0 Command: E:\biocbuild\bbs-3.21-bioc\R\bin\R.exe CMD INSTALL SpeCond StartedAt: 2025-02-03 15:45:09 -0500 (Mon, 03 Feb 2025) EndedAt: 2025-02-03 15:45:32 -0500 (Mon, 03 Feb 2025) EllapsedTime: 23.4 seconds RetCode: 0 Status: OK