Package: SpeCond Version: 1.61.0 Command: chmod a+r SpeCond -R && E:\biocbuild\bbs-3.21-bioc\R\bin\R.exe CMD build --keep-empty-dirs --no-resave-data SpeCond StartedAt: 2025-02-03 22:02:40 -0500 (Mon, 03 Feb 2025) EndedAt: 2025-02-03 22:03:50 -0500 (Mon, 03 Feb 2025) EllapsedTime: 69.6 seconds RetCode: 0 Status: OK PackageFile: SpeCond_1.61.0.tar.gz PackageFileSize: 1.701 MiB