Package: SpeCond Version: 1.63.0 Command: /home/biocbuild/bbs-3.22-bioc/R/bin/R CMD INSTALL SpeCond StartedAt: 2025-10-02 15:14:23 -0400 (Thu, 02 Oct 2025) EndedAt: 2025-10-02 15:14:31 -0400 (Thu, 02 Oct 2025) EllapsedTime: 8.1 seconds RetCode: 0 Status: OK