Package: SpeCond Version: 1.63.0 Command: /home/biocbuild/bbs-3.22-bioc/R/bin/R CMD build --keep-empty-dirs --no-resave-data --md5 SpeCond StartedAt: 2025-10-02 20:14:49 -0400 (Thu, 02 Oct 2025) EndedAt: 2025-10-02 20:15:35 -0400 (Thu, 02 Oct 2025) EllapsedTime: 46.0 seconds RetCode: 0 Status: OK PackageFile: SpeCond_1.63.0.tar.gz PackageFileSize: 1.7 MiB