Package: SpeCond Version: 1.61.0 Command: /home/biocbuild/R/R/bin/R CMD INSTALL SpeCond StartedAt: 2025-01-29 19:37:42 -0000 (Wed, 29 Jan 2025) EndedAt: 2025-01-29 19:37:51 -0000 (Wed, 29 Jan 2025) EllapsedTime: 9.6 seconds RetCode: 0 Status: OK