Package: SpeCond Version: 1.61.0 Command: /home/biocbuild/R/R/bin/R CMD check --install=check:SpeCond.install-out.txt --library=/home/biocbuild/R/R/site-library --no-vignettes --timings SpeCond_1.61.0.tar.gz StartedAt: 2025-01-28 15:37:54 -0000 (Tue, 28 Jan 2025) EndedAt: 2025-01-28 15:39:33 -0000 (Tue, 28 Jan 2025) EllapsedTime: 99.1 seconds RetCode: 0 Status: OK CheckDir: SpeCond.Rcheck Warnings: 0