Package: SpatialOmicsOverlay Version: 1.7.0 Command: /Library/Frameworks/R.framework/Resources/bin/R CMD build --keep-empty-dirs --no-resave-data SpatialOmicsOverlay StartedAt: 2025-02-14 17:35:22 -0500 (Fri, 14 Feb 2025) EndedAt: 2025-02-14 17:38:14 -0500 (Fri, 14 Feb 2025) EllapsedTime: 172.0 seconds RetCode: 0 Status: OK PackageFile: SpatialOmicsOverlay_1.7.0.tar.gz PackageFileSize: 4.498 MiB