Package: SpatialFeatureExperiment Version: 1.9.7 Command: E:\biocbuild\bbs-3.21-bioc\R\bin\R.exe CMD check --no-multiarch --install=check:SpatialFeatureExperiment.install-out.txt --library=E:\biocbuild\bbs-3.21-bioc\R\library --no-vignettes --timings SpatialFeatureExperiment_1.9.7.tar.gz StartedAt: 2025-02-03 05:30:01 -0500 (Mon, 03 Feb 2025) EndedAt: 2025-02-03 05:54:26 -0500 (Mon, 03 Feb 2025) EllapsedTime: 1465.1 seconds RetCode: 0 Status: OK CheckDir: SpatialFeatureExperiment.Rcheck Warnings: 0