Package: SpatialFeatureExperiment Version: 1.9.7 Command: rm -rf SpatialFeatureExperiment.buildbin-libdir && mkdir SpatialFeatureExperiment.buildbin-libdir && E:\biocbuild\bbs-3.21-bioc\R\bin\R.exe CMD INSTALL --build --library=SpatialFeatureExperiment.buildbin-libdir SpatialFeatureExperiment_1.9.7.tar.gz StartedAt: 2025-02-03 08:20:12 -0500 (Mon, 03 Feb 2025) EndedAt: 2025-02-03 08:32:53 -0500 (Mon, 03 Feb 2025) EllapsedTime: 760.8 seconds RetCode: 0 Status: OK PackageFile: SpatialFeatureExperiment_1.9.7.zip PackageFileSize: 2.679 MiB