Package: SpatialExperimentIO Version: 1.1.0 Command: /home/biocbuild/R/R/bin/R CMD INSTALL SpatialExperimentIO StartedAt: 2025-10-06 21:07:44 -0000 (Mon, 06 Oct 2025) EndedAt: 2025-10-06 21:08:23 -0000 (Mon, 06 Oct 2025) EllapsedTime: 39.6 seconds RetCode: 0 Status: OK