Package: SpatialExperimentIO Version: 1.1.0 Command: /home/biocbuild/R/R/bin/R CMD build --keep-empty-dirs --no-resave-data SpatialExperimentIO StartedAt: 2025-10-07 03:09:05 -0000 (Tue, 07 Oct 2025) EndedAt: 2025-10-07 03:10:07 -0000 (Tue, 07 Oct 2025) EllapsedTime: 61.1 seconds RetCode: 0 Status: OK PackageFile: SpatialExperimentIO_1.1.0.tar.gz PackageFileSize: 633.4 KiB