Package: SpatialExperimentIO Version: 0.99.7 Command: E:\biocbuild\bbs-3.21-bioc\R\bin\R.exe CMD INSTALL SpatialExperimentIO StartedAt: 2025-02-12 16:33:29 -0500 (Wed, 12 Feb 2025) EndedAt: 2025-02-12 16:34:20 -0500 (Wed, 12 Feb 2025) EllapsedTime: 50.9 seconds RetCode: 0 Status: OK