Package: SpatialExperimentIO Version: 0.99.7 Command: rm -rf SpatialExperimentIO.buildbin-libdir && mkdir SpatialExperimentIO.buildbin-libdir && E:\biocbuild\bbs-3.21-bioc\R\bin\R.exe CMD INSTALL --build --library=SpatialExperimentIO.buildbin-libdir SpatialExperimentIO_0.99.7.tar.gz StartedAt: 2025-02-13 08:57:09 -0500 (Thu, 13 Feb 2025) EndedAt: 2025-02-13 08:57:58 -0500 (Thu, 13 Feb 2025) EllapsedTime: 49.4 seconds RetCode: 0 Status: OK PackageFile: SpatialExperimentIO_0.99.7.zip PackageFileSize: 662.2 KiB