Package: SpatialExperimentIO Version: 1.1.0 Command: /home/biocbuild/bbs-3.22-bioc/R/bin/R CMD check --install=check:SpatialExperimentIO.install-out.txt --library=/home/biocbuild/bbs-3.22-bioc/R/site-library --timings SpatialExperimentIO_1.1.0.tar.gz StartedAt: 2025-10-18 05:04:20 -0400 (Sat, 18 Oct 2025) EndedAt: 2025-10-18 05:08:06 -0400 (Sat, 18 Oct 2025) EllapsedTime: 225.2 seconds RetCode: 0 Status: OK CheckDir: SpatialExperimentIO.Rcheck Warnings: 0