Package: SpatialExperimentIO Version: 0.99.7 Command: rm -rf SpatialExperimentIO.buildbin-libdir && mkdir SpatialExperimentIO.buildbin-libdir && /Users/biocbuild/BBS/utils/build-universal.sh SpatialExperimentIO_0.99.7.tar.gz /Library/Frameworks/R.framework/Resources/bin/R SpatialExperimentIO.buildbin-libdir StartedAt: 2025-02-13 01:00:28 -0500 (Thu, 13 Feb 2025) EndedAt: 2025-02-13 01:01:13 -0500 (Thu, 13 Feb 2025) EllapsedTime: 45.2 seconds RetCode: 0 Status: OK PackageFile: SpatialExperimentIO_0.99.7.tgz PackageFileSize: 648.1 KiB