Package: SpatialExperimentIO Version: 0.99.7 Command: rm -rf SpatialExperimentIO.buildbin-libdir && mkdir SpatialExperimentIO.buildbin-libdir && /Users/biocbuild/BBS/utils/build-universal.sh SpatialExperimentIO_0.99.7.tar.gz /Library/Frameworks/R.framework/Resources/bin/R SpatialExperimentIO.buildbin-libdir StartedAt: 2025-02-09 22:32:01 -0500 (Sun, 09 Feb 2025) EndedAt: 2025-02-09 22:32:15 -0500 (Sun, 09 Feb 2025) EllapsedTime: 14.4 seconds RetCode: 0 Status: OK PackageFile: SpatialExperimentIO_0.99.7.tgz PackageFileSize: 649.3 KiB