Package: SpatialExperiment Version: 1.19.1 Command: rm -rf SpatialExperiment.buildbin-libdir && mkdir SpatialExperiment.buildbin-libdir && F:\biocbuild\bbs-3.22-bioc\R\bin\R.exe CMD INSTALL --build --library=SpatialExperiment.buildbin-libdir SpatialExperiment_1.19.1.tar.gz StartedAt: 2025-08-15 11:23:15 -0400 (Fri, 15 Aug 2025) EndedAt: 2025-08-15 11:25:16 -0400 (Fri, 15 Aug 2025) EllapsedTime: 121.4 seconds RetCode: 0 Status: OK PackageFile: SpatialExperiment_1.19.1.zip PackageFileSize: 5.56 MiB