Package: SpatialCPie Version: 1.25.0 Command: rm -rf SpatialCPie.buildbin-libdir && mkdir SpatialCPie.buildbin-libdir && F:\biocbuild\bbs-3.22-bioc\R\bin\R.exe CMD INSTALL --build --library=SpatialCPie.buildbin-libdir SpatialCPie_1.25.0.tar.gz StartedAt: 2025-08-15 11:23:10 -0400 (Fri, 15 Aug 2025) EndedAt: 2025-08-15 11:23:46 -0400 (Fri, 15 Aug 2025) EllapsedTime: 36.7 seconds RetCode: 0 Status: OK PackageFile: SpatialCPie_1.25.0.zip PackageFileSize: 1.061 MiB