Package: SpatialCPie Version: 1.27.0 Command: /home/biocbuild/bbs-3.23-bioc/R/bin/R CMD INSTALL SpatialCPie StartedAt: 2025-11-05 15:24:10 -0500 (Wed, 05 Nov 2025) EndedAt: 2025-11-05 15:24:34 -0500 (Wed, 05 Nov 2025) EllapsedTime: 24.6 seconds RetCode: 0 Status: OK