Package: SpatialCPie Version: 1.27.0 Command: /home/biocbuild/bbs-3.23-bioc/R/bin/R CMD build --keep-empty-dirs --no-resave-data SpatialCPie StartedAt: 2025-11-05 20:13:43 -0500 (Wed, 05 Nov 2025) EndedAt: 2025-11-05 20:14:33 -0500 (Wed, 05 Nov 2025) EllapsedTime: 50.0 seconds RetCode: 0 Status: OK PackageFile: SpatialCPie_1.27.0.tar.gz PackageFileSize: 992.3 KiB